Workbook
Name AC: #REF!
Name CPU: #REF!
Name CPU: #REF!
Name DF: #REF!
Name HTML_CodePage: 437
Name HTML_Control: {"'Armação'!$A$1:$A$2"}
Name HTML_Description: ""
Name HTML_Email: ""
Name HTML_Header: "Armação"
Name HTML_LastUpdate: "21/03/98"
Name HTML_LineAfter: 0
Name HTML_LineBefore: 0
Name HTML_Name: "Gustavo"
Name HTML_OBDlg2: 1
Name HTML_OBDlg4: 1
Name HTML_OS: 0
Name HTML_PathFile: "C:\Meus Documentos\MeuHTML.htm"
Name HTML_Title: "Modêlo Tabela de Armação"
Name LUCRO: #REF!
Name PO: 'ANEXO IX.1 - ORÇAMENTO'!$A$10:$M$206
Name PO: #REF!
Name PO_R2: 'ANEXO IX.1 - ORÇAMENTO'!$A$10:$M$207
Name RISCO: #REF!
Name SG: #REF!
Name TIP_OBRA: #REF!
Name VALOR_BDI: #REF!

Sheet ANEXO IX.1 - ORÇAMENTO
A1: [ LOGO DA EMPRESA ] | D1: [NOME DA EMPRESA] [ENDEREÇO, TELEFONE, E-MAIL] [CNPJ] | J1: ANEXO IX.1 PLANILHA ORÇAMENTÁRIA Orçamento proponente
A3: OBRA: | F3: FONTE:
A4: REFORMA E ADEQUAÇÃO DA ESTAÇÃO ELEVATÓRIA DE ESGOTO DE ÁGUA FRIA | F4: SINAPI (07/2026) / CPOS (06/2026) / SABESP (03/2026) - NÃO DESONERADO
A6: LOCAL: | F6: BDI 1 | G6: BDI 2 | H6: BDI 3 | I6: Fator K | J6: DATA BASE: | L6: % DESCONTO PROPONENTE | R6: % RECURSO FEHIDRO
A7: AV. TETRACAMPEONATO, S/N°, CIDADE ARACY, SÃO CARLOS, SP | F7: ='ANEXO IX.2 - BDI'!D31 -> 0.25 | G7: ='ANEXO IX.2 - BDI'!D51 -> 0.1402 | H7: - | I7: - | J7: 46235 | R7: 0.83614175
O8: DADOS REF. AO ORÇAMENTO BASE DA LICITAÇÃO
A9: Item | B9: Fonte (Ref.) | C9: Código | D9: Descrição | E9: UN | F9: Qtdd. | G9: Custo Unitário S/ BDI (R$) | H9: BDI | I9: Preço Unitário C/ BDI (R$) | J9: Valor Recurso FEHIDRO (R$) | K9: Valor Contrapartida SAAE (R$) | L9: Preço TOTAL (R$) | M9: % | O9: Custo Unitário S/ BDI (R$) | P9: Valor Recurso FEHIDRO (R$) | Q9: Valor Contrapartida SAAE (R$) | R9: Preço TOTAL (R$)
A10: 1 | D10: SERVIÇOS PRELIMINARES E CANTEIRO DE OBRAS | J10: =SUM(J11:J15) -> 0 | K10: =SUM(K11:K15) -> 0 | L10: =SUM(L11:L15) -> 0 | M10: =L10/$L$207 -> #DIV/0! | P10: 9461.05 | Q10: 6988.2 | R10: 16449.25
A11: 1.1 | B11: CPOS (09/2025) | C11: 02.08.050 | D11: PLACA DE IDENTIFICAÇÃO PARA OBRA EM LONA COM IMPRESSÃO DIGITAL E ESTRUTURA EM MADEIRA | E11: m² | F11: 24 | H11: BDI 1 | I11: =TRUNC(G11*(1+HLOOKUP(H11,$F$6:$I$7,2,FALSE)),2) -> 0 | J11: =IF(G11="",0,IF($L$7=0,P11,ROUND($R$7*L11,2))) -> 0 | K11: =L11-J11 -> 0 | L11: =ROUND(F11*I11,2) -> 0 | O11: 206.06 | P11: 589.61 | Q11: 5592.07 | R11: 6181.68
A12: 1.2 | B12: SINAPI (11/2025) | C12: 10775 | D12: LOCACAO DE CONTAINER 2,30 X 6,00 M, ALT. 2,50 M, COM 1 SANITARIO, PARA ESCRITÓRIO E DEPÓSITO, COMPLETO, SEM DIVISORIAS INTERNAS | E12: mês | F12: 6 | H12: BDI 1 | I12: =TRUNC(G12*(1+HLOOKUP(H12,$F$6:$I$7,2,FALSE)),2) -> 0 | J12: =IF(G12="",0,IF($L$7=0,P12,ROUND($R$7*L12,2))) -> 0 | K12: =L12-J12 -> 0 | L12: =ROUND(F12*I12,2) -> 0 | O12: 872.5 | P12: 5720.59 | Q12: 823.13 | R12: 6543.72
A13: 1.3 | B13: SINAPI (11/2025) | C13: 98524 | D13: LIMPEZA MANUAL DE VEGETAÇÃO EM TERRENO COM ENXADA.AF_05/2018 | E13: m² | F13: 318.57 | H13: BDI 1 | I13: =TRUNC(G13*(1+HLOOKUP(H13,$F$6:$I$7,2,FALSE)),2) -> 0 | J13: =IF(G13="",0,IF($L$7=0,P13,ROUND($R$7*L13,2))) -> 0 | K13: =L13-J13 -> 0 | L13: =ROUND(F13*I13,2) -> 0 | O13: 6.86 | P13: 2353.91 | Q13: 376.23 | R13: 2730.14
A14: 1.4 | B14: CPOS (09/2025) | C14: 03.07.050 | D14: FRESAGEM DE PAVIMENTO ASFÁLTICO COM ESPESSURA ATÉ 5 CM, INCLUSIVE CARREGAMENTO, TRANSPORTE ATÉ 1 QUILÔMETRO E DESCARREGAMENTO | E14: m² | F14: 54.3 | H14: BDI 1 | I14: =TRUNC(G14*(1+HLOOKUP(H14,$F$6:$I$7,2,FALSE)),2) -> 0 | J14: =IF(G14="",0,IF($L$7=0,P14,ROUND($R$7*L14,2))) -> 0 | K14: =L14-J14 -> 0 | L14: =ROUND(F14*I14,2) -> 0 | O14: 13.9 | P14: 751.61 | Q14: 191.58 | R14: 943.19
A15: 1.5 | B15: SINAPI (11/2025) | C15: 105136 | D15: LOCAÇÃO DE PONTO PARA REFERÊNCIA TOPOGRÁFICA. AF_03/2024 | E15: unid | F15: 1 | H15: BDI 1 | I15: =TRUNC(G15*(1+HLOOKUP(H15,$F$6:$I$7,2,FALSE)),2) -> 0 | J15: =IF(G15="",0,IF($L$7=0,P15,ROUND($R$7*L15,2))) -> 0 | K15: =L15-J15 -> 0 | L15: =ROUND(F15*I15,2) -> 0 | O15: 40.42 | P15: 45.33 | Q15: 5.19 | R15: 50.52
A16: 2 | D16: EXECUÇÃO DE LIGAÇÃO PROVISÓRIA AO POÇO DE SUCÇÃO | J16: =SUM(J17:J25) -> 0 | K16: =SUM(K17:K25) -> 0 | L16: =SUM(L17:L25) -> 0 | M16: =L16/$L$207 -> #DIV/0! | P16: 7201.66 | Q16: 1131.74 | R16: 8333.4
A17: 2.1 | B17: SINAPI (11/2025) | C17: 102276 | D17: ESCAVAÇÃO MECANIZADA DE VALA COM PROF. ATÉ 1,5 M (MÉDIA MONTANTE E JUSANTE/UMA COMPOSIÇÃO POR TRECHO), ESCAVADEIRA (0,8 M3), LARG. MENOR QUE 1,5 M, EM SOLO DE 1A CATEGORIA, EM LOCAIS COM ALTO NÍVEL DE INTERFERÊNCIA. AF_02/2021 | E17: m³ | F17: 12.48 | H17: BDI 1 | I17: =TRUNC(G17*(1+HLOOKUP(H17,$F$6:$I$7,2,FALSE)),2) -> 0 | J17: =IF(G17="",0,IF($L$7=0,P17,ROUND($R$7*L17,2))) -> 0 | K17: =L17-J17 -> 0 | L17: =ROUND(F17*I17,2) -> 0 | O17: 12.65 | P17: 169.38 | Q17: 27.93 | R17: 197.31
A18: 2.2 | B18: SABESP (09/2025) | C18: HM01964 | D18: CURVA 45° LONGA PVC RÍGIDO D=400 MM PBJE COLETOR DE ESGOTO | E18: unid | F18: 2 | H18: BDI 1 | I18: =TRUNC(G18*(1+HLOOKUP(H18,$F$6:$I$7,2,FALSE)),2) -> 0 | J18: =IF(G18="",0,IF($L$7=0,P18,ROUND($R$7*L18,2))) -> 0 | K18: =L18-J18 -> 0 | L18: =ROUND(F18*I18,2) -> 0 | O18: 598 | P18: 1405.85 | Q18: 89.15 | R18: 1495
A19: 2.3 | B19: CPOS (09/2025) | C19: 46.05.090 | D19: TUBO PVC RÍGIDO OCRE, TIPO COLETOR ESGOTO, JUNTA ELÁSTICA, DN= 400 MM, INCLUSIVE CONEXÕES | E19: m | F19: 7.5 | H19: BDI 1 | I19: =TRUNC(G19*(1+HLOOKUP(H19,$F$6:$I$7,2,FALSE)),2) -> 0 | J19: =IF(G19="",0,IF($L$7=0,P19,ROUND($R$7*L19,2))) -> 0 | K19: =L19-J19 -> 0 | L19: =ROUND(F19*I19,2) -> 0 | O19: 461.7 | P19: 3620.43 | Q19: 707.97 | R19: 4328.4
A20: 2.4 | B20: CPOS (09/2025) | C20: 01.23.100 | D20: DEMOLIÇÃO DE CONCRETO ARMADO COM PRESERVAÇÃO DE ARMADURA, PARA REFORÇO E RECUPERAÇÃO ESTRUTURAL | E20: m³ | F20: 0.15 | H20: BDI 1 | I20: =TRUNC(G20*(1+HLOOKUP(H20,$F$6:$I$7,2,FALSE)),2) -> 0 | J20: =IF(G20="",0,IF($L$7=0,P20,ROUND($R$7*L20,2))) -> 0 | K20: =L20-J20 -> 0 | L20: =ROUND(F20*I20,2) -> 0 | O20: 541.1 | P20: 86.76 | Q20: 14.7 | R20: 101.46
A21: 2.5 | B21: SINAPI (11/2025) | C21: 93378 | D21: REATERRO MECANIZADO DE VALA COM RETROESCAVADEIRA (CAPACIDADE DA CAÇAMBA DA RETRO: 0,26 M³/POTÊNCIA: 88 HP), LARGURA ATÉ 0,8 M, PROFUNDIDADE ATÉ 1,5 M, COM SOLO (SEM SUBSTITUIÇÃO) DE 1ª CATEGORIA, COM COMPACTADOR DE SOLOS DE PERCUSSÃO. AF_08/2023 | E21: m³ | F21: 31 | H21: BDI 1 | I21: =TRUNC(G21*(1+HLOOKUP(H21,$F$6:$I$7,2,FALSE)),2) -> 0 | J21: =IF(G21="",0,IF($L$7=0,P21,ROUND($R$7*L21,2))) -> 0 | K21: =L21-J21 -> 0 | L21: =ROUND(F21*I21,2) -> 0 | O21: 29.25 | P21: 987.1 | Q21: 146.26 | R21: 1133.36
A22: 2.6 | B22: SINAPI (11/2025) | C22: 92267 | D22: FABRICAÇÃO DE FÔRMA PARA LAJES, EM CHAPA DE MADEIRA COMPENSADA RESINADA, E = 17 MM. AF_09/2020 - (REPARO DA ESTRUTURA DE CONCRETO APÓS RETIRADA) | E22: m² | F22: 1.96 | H22: BDI 1 | I22: =TRUNC(G22*(1+HLOOKUP(H22,$F$6:$I$7,2,FALSE)),2) -> 0 | J22: =IF(G22="",0,IF($L$7=0,P22,ROUND($R$7*L22,2))) -> 0 | K22: =L22-J22 -> 0 | L22: =ROUND(F22*I22,2) -> 0 | O22: 44.25 | P22: 99.27 | Q22: 9.14 | R22: 108.41
A23: 2.7 | B23: SINAPI (11/2025) | C23: 92802 | D23: CORTE E DOBRA DE AÇO CA-50, DIÂMETRO DE 8,0 MM. AF_06/2022 - (REPARO DA ESTRUTURA DE CONCRETO APÓS RETIRADA) | E23: kg | F23: 15 | H23: BDI 1 | I23: =TRUNC(G23*(1+HLOOKUP(H23,$F$6:$I$7,2,FALSE)),2) -> 0 | J23: =IF(G23="",0,IF($L$7=0,P23,ROUND($R$7*L23,2))) -> 0 | K23: =L23-J23 -> 0 | L23: =ROUND(F23*I23,2) -> 0 | O23: 8.54 | P23: 137.02 | Q23: 23.03 | R23: 160.05
A24: 2.8 | B24: CPOS (09/2025) | C24: 11.05.030 | D24: ARGAMASSA GRAUTE AUTONIVELANTE DE ALTA RESISTÊNCIA - (REPARO DA ESTRUTURA DE CONCRETO APÓS RETIRADA) | E24: m³ | F24: 0.15 | H24: BDI 1 | I24: =TRUNC(G24*(1+HLOOKUP(H24,$F$6:$I$7,2,FALSE)),2) -> 0 | J24: =IF(G24="",0,IF($L$7=0,P24,ROUND($R$7*L24,2))) -> 0 | K24: =L24-J24 -> 0 | L24: =ROUND(F24*I24,2) -> 0 | O24: 4154.47 | P24: 668.54 | Q24: 110.42 | R24: 778.96
A25: 2.9 | B25: SINAPI (11/2025) | C25: 45146 | D25: ADITIVO IMPERMEABILIZANTE CRISTALIZANTE PARA CONCRETO (Ref.: XYPEX ou equivalente técnico) - (REPARO DA ESTRUTURA DE CONCRETO APÓS RETIRADA) | E25: kg | F25: 0.75 | H25: BDI 1 | I25: =TRUNC(G25*(1+HLOOKUP(H25,$F$6:$I$7,2,FALSE)),2) -> 0 | J25: =IF(G25="",0,IF($L$7=0,P25,ROUND($R$7*L25,2))) -> 0 | K25: =L25-J25 -> 0 | L25: =ROUND(F25*I25,2) -> 0 | O25: 32.48 | P25: 27.31 | Q25: 3.14 | R25: 30.45
A26: 3 | D26: REDE DE ESGOTO SANITÁRIO (ES) | J26: =SUM(J27:J36) -> 0 | K26: =SUM(K27:K36) -> 0 | L26: =SUM(L27:L36) -> 0 | M26: =L26/$L$207 -> #DIV/0! | P26: 32517.16 | Q26: 6720.44 | R26: 39237.6
A27: 3.1 | B27: SINAPI (11/2025) | C27: 102139 | D27: POÇO DE VISITA CIRCULAR PARA ESGOTO, EM CONCRETO PRÉ-MOLDADO, DIÂMETRO INTERNO = 1,20 M, PROFUNDIDADE CONFORME PROJETO, EXCLUINDO TAMPÃO. AF_12/2020 | E27: unid | F27: 2 | H27: BDI 1 | I27: =TRUNC(G27*(1+HLOOKUP(H27,$F$6:$I$7,2,FALSE)),2) -> 0 | J27: =IF(G27="",0,IF($L$7=0,P27,ROUND($R$7*L27,2))) -> 0 | K27: =L27-J27 -> 0 | L27: =ROUND(F27*I27,2) -> 0 | O27: 1952.42 | P27: 3974.86 | Q27: 906.18 | R27: 4881.04
A28: 3.2 | B28: SINAPI (11/2025) | C28: 98050 | D28: CHAMINÉ CIRCULAR PARA POÇO DE VISITA PARA ESGOTO, EM CONCRETO PRÉ-MOLDADO, DIÂMETRO INTERNO = 0,6 M E ALTURA DE 0,50M. AF_12/2020 | E28: m | F28: 1 | H28: BDI 1 | I28: =TRUNC(G28*(1+HLOOKUP(H28,$F$6:$I$7,2,FALSE)),2) -> 0 | J28: =IF(G28="",0,IF($L$7=0,P28,ROUND($R$7*L28,2))) -> 0 | K28: =L28-J28 -> 0 | L28: =ROUND(F28*I28,2) -> 0 | O28: 341.06 | P28: 339.27 | Q28: 87.05 | R28: 426.32
A29: 3.3 | B29: SINAPI (11/2025) | C29: 90728 | D29: JUNTA ARGAMASSADA ENTRE TUBO DN 300 MM E O POÇO DE VISITA/ CAIXA DE CONCRETO OU ALVENARIA. AF_01/2021 | E29: unid | F29: 3 | H29: BDI 1 | I29: =TRUNC(G29*(1+HLOOKUP(H29,$F$6:$I$7,2,FALSE)),2) -> 0 | J29: =IF(G29="",0,IF($L$7=0,P29,ROUND($R$7*L29,2))) -> 0 | K29: =L29-J29 -> 0 | L29: =ROUND(F29*I29,2) -> 0 | O29: 66.32 | P29: 214.19 | Q29: 34.51 | R29: 248.7
A30: 3.4 | B30: SINAPI (11/2025) | C30: 90730 | D30: JUNTA ARGAMASSADA ENTRE TUBO DN 400 MM E O POÇO DE VISITA/ CAIXA DE CONCRETO OU ALVENARIA. AF_01/2021 | E30: unid | F30: 4 | H30: BDI 1 | I30: =TRUNC(G30*(1+HLOOKUP(H30,$F$6:$I$7,2,FALSE)),2) -> 0 | J30: =IF(G30="",0,IF($L$7=0,P30,ROUND($R$7*L30,2))) -> 0 | K30: =L30-J30 -> 0 | L30: =ROUND(F30*I30,2) -> 0 | O30: 82.18 | P30: 353.77 | Q30: 57.11 | R30: 410.88
A31: 3.5 | B31: SINAPI (11/2025) | C31: 94963 | D31: CONCRETO FCK = 15MPA, TRAÇO 1:3,4:3,5 (EM MASSA SECA DE CIMENTO/ AREIA MÉDIA/ BRITA 1) - PREPARO MECÂNICO COM BETONEIRA 400 L (ELEVAÇÃO DA COTA DE FUNDO DE CX-EXISTENTE) | E31: m³ | F31: 0.6 | H31: BDI 1 | I31: =TRUNC(G31*(1+HLOOKUP(H31,$F$6:$I$7,2,FALSE)),2) -> 0 | J31: =IF(G31="",0,IF($L$7=0,P31,ROUND($R$7*L31,2))) -> 0 | K31: =L31-J31 -> 0 | L31: =ROUND(F31*I31,2) -> 0 | O31: 443.51 | P31: 285.13 | Q31: 47.5 | R31: 332.63
A32: 3.6 | B32: CPOS (09/2025) | C32: 49.06.420 | D32: TAMPÃO EM FERRO FUNDIDO, DIÂMETRO DE 600 MM, CLASSE D 400 (RUPTURA> 400 KN) | E32: unid | F32: 2 | H32: BDI 1 | I32: =TRUNC(G32*(1+HLOOKUP(H32,$F$6:$I$7,2,FALSE)),2) -> 0 | J32: =IF(G32="",0,IF($L$7=0,P32,ROUND($R$7*L32,2))) -> 0 | K32: =L32-J32 -> 0 | L32: =ROUND(F32*I32,2) -> 0 | O32: 677.04 | P32: 1455.57 | Q32: 237.03 | R32: 1692.6
A33: 3.7 | B33: SINAPI (11/2025) | C33: 102276 | D33: ESCAVAÇÃO MECANIZADA DE VALA COM PROF. ATÉ 1,5 M (MÉDIA MONTANTE E JUSANTE/UMA COMPOSIÇÃO POR TRECHO), ESCAVADEIRA (0,8 M3), LARG. MENOR QUE 1,5 M, EM SOLO DE 1A CATEGORIA, EM LOCAIS COM ALTO NÍVEL DE INTERFERÊNCIA. AF_02/2021 | E33: m³ | F33: 77.27 | H33: BDI 1 | I33: =TRUNC(G33*(1+HLOOKUP(H33,$F$6:$I$7,2,FALSE)),2) -> 0 | J33: =IF(G33="",0,IF($L$7=0,P33,ROUND($R$7*L33,2))) -> 0 | K33: =L33-J33 -> 0 | L33: =ROUND(F33*I33,2) -> 0 | O33: 12.65 | P33: 1048.7 | Q33: 172.94 | R33: 1221.64
A34: 3.8 | B34: CPOS (09/2025) | C34: 46.05.070 | D34: TUBO PVC RÍGIDO OCRE, TIPO COLETOR ESGOTO, JUNTA ELÁSTICA, DN= 300 MM, INCLUSIVE CONEXÕES | E34: m | F34: 25.4 | H34: BDI 1 | I34: =TRUNC(G34*(1+HLOOKUP(H34,$F$6:$I$7,2,FALSE)),2) -> 0 | J34: =IF(G34="",0,IF($L$7=0,P34,ROUND($R$7*L34,2))) -> 0 | K34: =L34-J34 -> 0 | L34: =ROUND(F34*I34,2) -> 0 | O34: 293.17 | P34: 7420.81 | Q34: 1887.27 | R34: 9308.08
A35: 3.9 | B35: CPOS (09/2025) | C35: 46.05.090 | D35: TUBO PVC RÍGIDO OCRE, TIPO COLETOR ESGOTO, JUNTA ELÁSTICA, DN= 400 MM, INCLUSIVE CONEXÕES | E35: m | F35: 31 | H35: BDI 1 | I35: =TRUNC(G35*(1+HLOOKUP(H35,$F$6:$I$7,2,FALSE)),2) -> 0 | J35: =IF(G35="",0,IF($L$7=0,P35,ROUND($R$7*L35,2))) -> 0 | K35: =L35-J35 -> 0 | L35: =ROUND(F35*I35,2) -> 0 | O35: 461.7 | P35: 14964.44 | Q35: 2926.28 | R35: 17890.72
A36: 3.10 | B36: SINAPI (11/2025) | C36: 93378 | D36: REATERRO MECANIZADO DE VALA COM RETROESCAVADEIRA (CAPACIDADE DA CAÇAMBA DA RETRO: 0,26 M³/POTÊNCIA: 88 HP), LARGURA ATÉ 0,8 M, PROFUNDIDADE ATÉ 1,5 M, COM SOLO (SEM SUBSTITUIÇÃO) DE 1ª CATEGORIA, COM COMPACTADOR DE SOLOS DE PERCUSSÃO. AF_08/2023 | E36: m³ | F36: 77.27 | H36: BDI 1 | I36: =TRUNC(G36*(1+HLOOKUP(H36,$F$6:$I$7,2,FALSE)),2) -> 0 | J36: =IF(G36="",0,IF($L$7=0,P36,ROUND($R$7*L36,2))) -> 0 | K36: =L36-J36 -> 0 | L36: =ROUND(F36*I36,2) -> 0 | O36: 29.25 | P36: 2460.42 | Q36: 364.57 | R36: 2824.99
A37: 4 | D37: REDE DE ÁGUAS PLUVIAIS (AP) | J37: =SUM(J38:J46) -> 0 | K37: =SUM(K38:K46) -> 0 | L37: =SUM(L38:L46) -> 0 | M37: =L37/$L$207 -> #DIV/0! | P37: 23392.45 | Q37: 4553.18 | R37: 27945.63
A38: 4.1 | B38: SINAPI (11/2025) | C38: 102457 | D38: POÇO DE VISITA CIRCULAR PARA DRENAGEM, EM CONCRETO PRÉ-MOLDADO, DIÂMETRO INTERNO = 1,20 M, PROFUNDIDADE CONFORME PROJETO, EXCLUINDO TAMPÃO. AF_05/2021 | E38: unid | F38: 2 | H38: BDI 1 | I38: =TRUNC(G38*(1+HLOOKUP(H38,$F$6:$I$7,2,FALSE)),2) -> 0 | J38: =IF(G38="",0,IF($L$7=0,P38,ROUND($R$7*L38,2))) -> 0 | K38: =L38-J38 -> 0 | L38: =ROUND(F38*I38,2) -> 0 | O38: 1878.65 | P38: 3828.9 | Q38: 867.72 | R38: 4696.62
A39: 4.2 | B39: SINAPI (11/2025) | C39: 99318 | D39: CHAMINÉ CIRCULAR PARA POÇO DE VISITA PARA DRENAGEM, EM CONCRETO PRÉ-MOLDADO, DIÂMETRO INTERNO = 0,6 M E ALTURA DE 0,50M. AF_12/2020 | E39: m | F39: 1 | H39: BDI 1 | I39: =TRUNC(G39*(1+HLOOKUP(H39,$F$6:$I$7,2,FALSE)),2) -> 0 | J39: =IF(G39="",0,IF($L$7=0,P39,ROUND($R$7*L39,2))) -> 0 | K39: =L39-J39 -> 0 | L39: =ROUND(F39*I39,2) -> 0 | O39: 340.1 | P39: 338.23 | Q39: 86.89 | R39: 425.12
A40: 4.3 | B40: SINAPI (11/2025) | C40: 90725 | D40: JUNTA ARGAMASSADA ENTRE TUBO DN 150 MM E O POÇO DE VISITA/ CAIXA DE CONCRETO OU ALVENARIA. AF_01/2021 | E40: unid | F40: 2 | H40: BDI 1 | I40: =TRUNC(G40*(1+HLOOKUP(H40,$F$6:$I$7,2,FALSE)),2) -> 0 | J40: =IF(G40="",0,IF($L$7=0,P40,ROUND($R$7*L40,2))) -> 0 | K40: =L40-J40 -> 0 | L40: =ROUND(F40*I40,2) -> 0 | O40: 42.46 | P40: 91.53 | Q40: 14.61 | R40: 106.14
A41: 4.4 | B41: SINAPI (11/2025) | C41: 90728 | D41: JUNTA ARGAMASSADA ENTRE TUBO DN 300 MM E O POÇO DE VISITA/ CAIXA DE CONCRETO OU ALVENARIA. AF_01/2021 | E41: unid | F41: 1 | H41: BDI 1 | I41: =TRUNC(G41*(1+HLOOKUP(H41,$F$6:$I$7,2,FALSE)),2) -> 0 | J41: =IF(G41="",0,IF($L$7=0,P41,ROUND($R$7*L41,2))) -> 0 | K41: =L41-J41 -> 0 | L41: =ROUND(F41*I41,2) -> 0 | O41: 66.32 | P41: 71.39 | Q41: 11.51 | R41: 82.9
A42: 4.5 | B42: SINAPI (11/2025) | C42: 90730 | D42: JUNTA ARGAMASSADA ENTRE TUBO DN 400 MM E O POÇO DE VISITA/ CAIXA DE CONCRETO OU ALVENARIA. AF_01/2021 | E42: unid | F42: 6 | H42: BDI 1 | I42: =TRUNC(G42*(1+HLOOKUP(H42,$F$6:$I$7,2,FALSE)),2) -> 0 | J42: =IF(G42="",0,IF($L$7=0,P42,ROUND($R$7*L42,2))) -> 0 | K42: =L42-J42 -> 0 | L42: =ROUND(F42*I42,2) -> 0 | O42: 82.18 | P42: 530.65 | Q42: 85.67 | R42: 616.32
...

Sheet ANEXO IX.2 - BDI
A1: [LOGO DA EMPRESA] | B1: [NOME DA EMPRESA] [ENDEREÇO, TELEFONE, E-MAIL] [CNPJ]
A3: ANEXO IX.2
A4: DEMONSTRATIVO DO B.D.I.
A6: OBRA:
A7: REFORMA E ADEQUAÇÃO DA ESTAÇÃO ELEVATÓRIA DE ESGOTO DE ÁGUA FRIA
A9: LOCAL:
A10: AV. TETRACAMPEONATO, S/N°, CIDADE ARACY, SÃO CARLOS, SP
A12: Percentual da base de cálculo para o ISS, conforme legislação tributária municipal: | H12: 1
A13: Alíquota do ISS: | H13: 0.02
A16: BDI 1
A18: TIPO DE OBRA:
A19: CONSTRUÇÃO DE REDES DE ABASTECIMENTO DE ÁGUA, COLETA DE ESGOTO E CONSTRUÇÕES CORRELATAS
A21: Demonstrativo | F21: Referência
A22: SIGLAS | B22: DESCRIÇÃO | D22: % | F22: 1° Quartil | G22: Médio | H22: 3º Quartil
A23: AC | B23: ADMINISTRAÇÃO CENTRAL | D23: 0.0493 | F23: 0.0343 | G23: 0.0493 | H23: 0.0671
A24: SG | B24: SEGURO E GARANTIA | D24: 0.0049 | F24: 0.0028 | G24: 0.0049 | H24: 0.0075
A25: R | B25: RISCO | D25: 0.0151 | F25: 0.01 | G25: 0.0139 | H25: 0.0174
A26: DF | B26: DESPESAS FINANCEIRAS | D26: 0.01 | F26: 0.0094 | G26: 0.0099 | H26: 0.0117
A27: L | B27: LUCRO | D27: 0.092 | F27: 0.0674 | G27: 0.0804 | H27: 0.094
A28: CP | B28: TRIBUTOS (COFINS 3% E PIS 0,65%) | D28: 0.0365 | F28: 0.0365 | G28: 0.0365 | H28: 0.0365
A29: ISS | B29: TRIBUTOS (ISSQN) | D29: =H13*H12 -> 0.02 | F29: 0 | G29: 0.025 | H29: 0.05
A30: CPRB | B30: TRIBUTOS (CP SOBRE RB - DESONER.) | D30: 0.045 | F30: 0 | G30: 0.045 | H30: 0.045
A31: BDI | B31: SEM DESONERAÇÃO (Fórmula Acórdão TCU) | D31: =ROUND((((1+D23+D24+D25)*(1+D26)*(1+D27)/(1-(D28+D29)))-1),4) -> 0.25 | F31: 0.2076 | G31: 0.2418 | H31: 0.2644
A32: BDI | B32: COM DESONERAÇÃO | D32: =ROUND((((1+D23+D24+D25)*(1+D26)*(1+D27)/(1-(D28+D29+D30)))-1),4) -> 0.3126
A33: O VALOR DO BDI 1 ADOTADO É: 25,00%. | F33: Conforme Acordão Nº 2622/2013 - TCU.
A36: BDI 2
A38: TIPO DE OBRA:
A39: BDI PARA ITENS DE MERO FORNECIMENTO DE MATERIAIS E EQUIPAMENTOS
A41: Demonstrativo | F41: Referência
A42: SIGLAS | B42: DESCRIÇÃO | D42: % | F42: 1° Quartil | G42: Médio | H42: 3º Quartil
A43: AC | B43: ADMINISTRAÇÃO CENTRAL | D43: 0.0345 | F43: 0.015 | G43: 0.0345 | H43: 0.0449
A44: SG | B44: SEGURO E GARANTIA | D44: 0.0048 | F44: 0.003 | G44: 0.0048 | H44: 0.0082
A45: R | B45: RISCO | D45: 0.0085 | F45: 0.0056 | G45: 0.0085 | H45: 0.0089
A46: DF | B46: DESPESAS FINANCEIRAS | D46: 0.0085 | F46: 0.0085 | G46: 0.0085 | H46: 0.0111
A47: L | B47: LUCRO | D47: 0.0396 | F47: 0.035 | G47: 0.0511 | H47: 0.0622
A48: CP | B48: TRIBUTOS (COFINS 3% E PIS 0,65%) | D48: 0.0365 | F48: 0.0365 | G48: 0.0365 | H48: 0.0365
A49: ISS | B49: TRIBUTOS (ISSQN) | D49: 0 | F49: 0 | G49: 0.025 | H49: 0.05
A50: CPRB | B50: TRIBUTOS (CP SOBRE RB - DESONER.) | D50: 0.045 | F50: 0 | G50: 0.045 | H50: 0.045
A51: BDI | B51: SEM DESONERAÇÃO (Fórmula Acórdão TCU) | D51: =ROUND((((1+D43+D44+D45)*(1+D46)*(1+D47)/(1-(D48+D49)))-1),4) -> 0.1402 | F51: 0.111 | G51: 0.1402 | H51: 0.168
A52: BDI | B52: COM DESONERAÇÃO | D52: =ROUND((((1+D43+D44+D45)*(1+D46)*(1+D47)/(1-(D48+D49+D50)))-1),4) -> 0.196
...

Sheet ANEXO IX.3 - COMPOSIÇÕES
A1: [LOGO DA EMPRESA] | C1: [NOME DA EMPRESA] [ENDEREÇO, TELEFONE, E-MAIL] [CNPJ]
A3: ANEXO IX.3
A4: COMPOSIÇÃO DE PREÇO UNITÁRIA - CPU
A6: OBRA: | G6: DATA BASE:
A7: ='ANEXO IX.1 - ORÇAMENTO'!A4:E4 -> REFORMA E ADEQUAÇÃO DA ESTAÇÃO ELEVATÓRIA DE ESGOTO DE ÁGUA FRIA | G7: 46023
A9: LOCAL: | E9: FONTE: SINAPI 11-2025 / CPOS 09-2025 / SABESP 09-2025 - (NÃO DESONERADO)
A10: ='ANEXO IX.1 - ORÇAMENTO'!A7:E7 -> AV. TETRACAMPEONATO, S/N°, CIDADE ARACY, SÃO CARLOS, SP
J11: DADOS REF. AO ORÇAMENTO BASE DA LICITAÇÃO
A12: Item | B12: Fonte (Ref.) | C12: Código | D12: Descrição | E12: UN | F12: Coeficiente | G12: Valor Unitário (R$) | H12: Valor Total (R$) | J12: Valor Unitário (R$)
A13: C | B13: SAAE | C13: S001 | D13: TRANSPORTE DE TANQUE EM PRFV POSTO EM OBRA - FRETE | E13: UN | H13: =SUM(H14:H15) -> 0
A14: CA | B14: CPOS (09/2025) | C14: 70.20.020 | D14: =UPPER("Transporte de equipamentos com caminhão carroceria em rodovia pavimentada") -> TRANSPORTE DE EQUIPAMENTOS COM CAMINHÃO CARROCERIA EM RODOVIA PAVIMENTADA | E14: KM | F14: 150 | H14: =TRUNC(F14*G14,2) -> 0 | J14: 10.97
A15: CA | B15: SINAPI (11/2025) | C15: 100947 | D15: TRANSPORTE COM CAMINHÃO CARROCERIA 9T, EM VIA URBANA PAVIMENTADA, DMT ATÉ 30KM (UNIDADE: TXKM). AF_07/2020 | E15: TXKM | F15: 15 | H15: =TRUNC(F15*G15,2) -> 0 | J15: 2.59
A16: C | B16: SAAE | C16: S002 | D16: INSTALAÇÃO DE TANQUES DE PRFV | E16: UN | H16: =SUM(H17:H20) -> 0
A17: CA | B17: SINAPI (11/2025) | C17: 93402 | D17: GUINDAUTO HIDRÁULICO, CAPACIDADE MÁXIMA DE CARGA 3300 KG, MOMENTO MÁXIMO DE CARGA 5,8 TM, ALCANCE MÁXIMO HORIZONTAL 7,60 M, INCLUSIVE CAMINHÃO TOCO PBT 16.000 KG, POTÊNCIA DE 189 CV - CHP DIURNO. AF_03/2016 | E17: CHP | F17: =16*0.4 -> 6.4 | H17: =TRUNC(F17*G17,2) -> 0 | J17: 302.17
A18: CA | B18: SINAPI (11/2025) | C18: 5930 | D18: GUINDAUTO HIDRÁULICO, CAPACIDADE MÁXIMA DE CARGA 6200 KG, MOMENTO MÁXIMO DE CARGA 11,7 TM, ALCANCE MÁXIMO HORIZONTAL 9,70 M, INCLUSIVE CAMINHÃO TOCO PBT 16.000 KG, POTÊNCIA DE 189 CV - CHI DIURNO. AF_06/2014 | E18: CHI | F18: =16*0.6 -> 9.6 | H18: =TRUNC(F18*G18,2) -> 0 | J18: 86.13
A19: CA | B19: SINAPI (11/2025) | C19: 88267 | D19: ENCANADOR OU BOMBEIRO HIDRÁULICO COM ENCARGOS COMPLEMENTARES | E19: H | F19: 16 | H19: =TRUNC(F19*G19,2) -> 0 | J19: 40.92
A20: CA | B20: SINAPI (11/2025) | C20: 88248 | D20: AUXILIAR DE ENCANADOR OU BOMBEIRO HIDRÁULICO COM ENCARGOS COMPLEMENTARES | E20: H | F20: =F19*2 -> 32 | H20: =TRUNC(F20*G20,2) -> 0 | J20: 34.26
A21: C | B21: SAAE | D21: STOP-LOG EM POLIPROPILENO (PP) COM QUADRO-GUIA E BORRACHA NITRÍLICA DE VEDAÇÃO, COMPONENTES EM RESINA E AÇO INOX - FORNECIMENTO E MONTAGEM | E21: M2 | H21: =SUM(H22:H27) -> 0
A22: CA | B22: CPOS (09/2025) | C22: REF. 54.08.010 | D22: ESTRUTURA EM POLIPROPILENO (PP) | E22: KG | F22: =900*0.03*1.2 -> 32.4 | H22: =TRUNC(F22*G22,2) -> 0
A23: I | B23: COTADO | C23: C001 | D23: =#REF! -> #REF! | E23: M2 | F23: 1.2 | H23: =TRUNC(F23*G23,2) -> 0
A24: CA | B24: CPOS (09/2025) | C24: REF. 21.10.210 | D24: VEDAÇÃO EM BORRACHA NITRÍLICA | E24: M | F24: =(2*(0.85*2+0.45)/(0.85*0.45)+4*(0.85*2+0.54)/(0.85*0.54))/6 -> 5.1270879 | H24: =TRUNC(F24*G24,2) -> 0
A25: I | B25: SABESP (09/2025) | C25: HM01288 | D25: CHUMBADOR AÇO INOXIDÁVEL D=1/4" X L=2" COM PARAFUSO TIPO CBA | E25: UN | F25: =(2*(6/(0.85*0.45))+4*(6/(0.85*0.54)))/6 -> 13.943355 | H25: =TRUNC(F25*G25,2) -> 0
A26: CA | B26: SABESP (09/2025) | C26: 70190181 | D26: APLIC.DE REVESTIM. DE RESINA ACRÍLICA E CIMENTO C/ALTA ALCALIN. E ADITIVO INIBIDOR DE CORROSÃO - DUAS DEMÃOS | E26: M | F26: =(2*(0.85*2+0.45)/(0.85*0.45)+4*(0.85*2+0.54)/(0.85*0.54))/6 -> 5.1270879 | H26: =TRUNC(F26*G26,2) -> 0
A27: CA | B27: SABESP (09/2025) | C27: 70140133 | D27: STOP-LOG - MONTAGEM | E27: M2 | F27: 1 | H27: =TRUNC(F27*G27,2) -> 0
A28: C | B28: SAAE | C28: S003 | D28: STOP-LOG EM FIBRA DE VIDRO (PRFV) COM GUIAS EMBUTIDAS, C/ QUADRO E ACIONAMENTO MANUAL COM VOLANTE | E28: CJ | H28: =SUM(H29:H33) -> 0
A29: CA | B29: CPOS (09/2025) | C29: 67.02.320 | D29: COMPORTA EM FIBRA DE VIDRO (STOP LOG) - ESPESSURA DE 10MM | E29: M2 | F29: =1.46*0.6 -> 0.876 | H29: =TRUNC(F29*G29,2) -> 0 | J29: 5791.36
A30: I | B30: SABESP (09/2025) | C30: REF. HM06361 | D30: HASTE DE PROLONGAMENTO C/QUADRADO E BOCA DE CHAVE FERRO TREFILADO D=1.1/8" X L=5 M (5 KG/M) PINTURA EPÓXI AZUL P/MANOBRA DE VÁLVULAS | E30: UN | F30: 1 | H30: =TRUNC(F30*G30,2) -> 0 | J30: 2021.31
A31: CA | B31: SCO (11/2025) | C31: DR 15.50.0062 | D31: VOLANTE DE FERRO FUNDIDO DUCTIL REFERENCIA NO 21, BARBARA OU SIMILAR. FORNECIMENTO E ASSENTAMENTO. | E31: UN | F31: 1 | H31: =TRUNC(F31*G31,2) -> 0 | J31: 206.84
A32: CA | B32: SABESP (09/2025) | C32: 70140093 | D32: PEDESTAL DE MANOBRA OU SUSPENSÃO ACIONAMENTO MANUAL - MONTAGEM | E32: UN | F32: 1 | H32: =TRUNC(F32*G32,2) -> 0 | J32: 1058.87
H33: =TRUNC(F33*G33,2) -> 0
A36: ='ANEXO IX.1 - ORÇAMENTO'!A210 -> [LOCAL E DATA]
C38: Representante Legal:
C42: ='ANEXO IX.1 - ORÇAMENTO'!$I$217 -> [NOME DO REPRESENTANTE LEGAL]
C43: ='ANEXO IX.1 - ORÇAMENTO'!$I$218 -> [CARGO]
C44: ='ANEXO IX.1 - ORÇAMENTO'!$I$219 -> [NOME DA EMPRESA]
C45: ='ANEXO IX.1 - ORÇAMENTO'!$I$220 -> [CNPJ N° ]

Sheet ANEXO IX.4 - CRONOGRAMA
A1: [LOGO DA EMPRESA] | B1: [NOME DA EMPRESA] [ENDEREÇO, TELEFONE, E-MAIL] [CNPJ] | G1: ANEXO IX.4 CRONOGRAMA FÍSICO-FINANCEIRO
A3: OBRA: | E3: LOCAL: | J3: DATA BASE:
A4: ='ANEXO IX.1 - ORÇAMENTO'!A4:E4 -> REFORMA E ADEQUAÇÃO DA ESTAÇÃO ELEVATÓRIA DE ESGOTO DE ÁGUA FRIA | E4: AV. TETRACAMPEONATO, S/N°, CIDADE ARACY, SÃO CARLOS, SP | J4: 46023
A6: Item | B6: Descrição | C6: Meses | I6: Total (C/ BDI) | J6: %
C7: Mês 01 | D7: Mês 02 | E7: Mês 03 | F7: Mês 04 | G7: Mês 05 | H7: Mês 06
A8: 1 | B8: =IFERROR(VLOOKUP(A8,PO_R2,4,0),"") -> SERVIÇOS PRELIMINARES E CANTEIRO DE OBRAS | C8: =IF(C9="","",C9*$I$8) -> 0 | D8: =IF(D9="","",D9*$I$8) -> 0 | E8: =IF(E9="","",E9*$I$8) -> 0 | F8: =IF(F9="","",F9*$I$8) -> 0 | G8: =IF(G9="","",G9*$I$8) -> 0 | H8: =IF(H9="","",H9*$I$8) -> 0 | I8: =IFERROR(VLOOKUP(A8,PO_R2,12,0),"") -> 0 | J8: =IFERROR(VLOOKUP(A8,PO_R2,13,0),"")
C9: 0.5 | D9: 0.1 | E9: 0.1 | F9: 0.1 | G9: 0.1 | H9: 0.1 | L9: =IF(SUM(C9:H9)=100%,"Ok","Revisar percentuais") -> Ok
A10: 2 | B10: =IFERROR(VLOOKUP(A10,PO_R2,4,0),"") -> EXECUÇÃO DE LIGAÇÃO PROVISÓRIA AO POÇO DE SUCÇÃO | C10: =IF(C11="","",C11*$I10) -> 0 | D10: =IF(D11="","",D11*$I10) | E10: =IF(E11="","",E11*$I10) | F10: =IF(F11="","",F11*$I10) | G10: =IF(G11="","",G11*$I10) | H10: =IF(H11="","",H11*$I10) | I10: =IFERROR(VLOOKUP(A10,PO_R2,12,0),"") -> 0 | J10: =IFERROR(VLOOKUP(A10,PO_R2,13,0),"")
C11: 1 | L11: =IF(SUM(C11:H11)=100%,"Ok","Revisar percentuais") -> Ok
A12: 3 | B12: =IFERROR(VLOOKUP(A12,PO_R2,4,0),"") -> REDE DE ESGOTO SANITÁRIO (ES) | C12: =IF(C13="","",C13*$I12) -> 0 | D12: =IF(D13="","",D13*$I12) | E12: =IF(E13="","",E13*$I12) | F12: =IF(F13="","",F13*$I12) | G12: =IF(G13="","",G13*$I12) | H12: =IF(H13="","",H13*$I12) | I12: =IFERROR(VLOOKUP(A12,PO_R2,12,0),"") -> 0 | J12: =IFERROR(VLOOKUP(A12,PO_R2,13,0),"")
C13: 1 | L13: =IF(SUM(C13:H13)=100%,"Ok","Revisar percentuais") -> Ok
A14: 4 | B14: =IFERROR(VLOOKUP(A14,PO_R2,4,0),"") -> REDE DE ÁGUAS PLUVIAIS (AP) | C14: =IF(C15="","",C15*$I14) -> 0 | D14: =IF(D15="","",D15*$I14) | E14: =IF(E15="","",E15*$I14) | F14: =IF(F15="","",F15*$I14) | G14: =IF(G15="","",G15*$I14) | H14: =IF(H15="","",H15*$I14) | I14: =IFERROR(VLOOKUP(A14,PO_R2,12,0),"") -> 0 | J14: =IFERROR(VLOOKUP(A14,PO_R2,13,0),"")
C15: 1 | L15: =IF(SUM(C15:H15)=100%,"Ok","Revisar percentuais") -> Ok
A16: 5 | B16: =IFERROR(VLOOKUP(A16,PO_R2,4,0),"") -> ESCAVAÇÃO: TRATAMENTO PRELIMINAR | C16: =IF(C17="","",C17*$I16) | D16: =IF(D17="","",D17*$I16) -> 0 | E16: =IF(E17="","",E17*$I16) | F16: =IF(F17="","",F17*$I16) | G16: =IF(G17="","",G17*$I16) | H16: =IF(H17="","",H17*$I16) | I16: =IFERROR(VLOOKUP(A16,PO_R2,12,0),"") -> 0 | J16: =IFERROR(VLOOKUP(A16,PO_R2,13,0),"")
D17: 1 | L17: =IF(SUM(C17:H17)=100%,"Ok","Revisar percentuais") -> Ok
A18: 6 | B18: =IFERROR(VLOOKUP(A18,PO_R2,4,0),"") -> ESCAVAÇÃO: TANQUES PULMÃO | C18: =IF(C19="","",C19*$I18) | D18: =IF(D19="","",D19*$I18) | E18: =IF(E19="","",E19*$I18) | F18: =IF(F19="","",F19*$I18) -> 0 | G18: =IF(G19="","",G19*$I18) | H18: =IF(H19="","",H19*$I18) | I18: =IFERROR(VLOOKUP(A18,PO_R2,12,0),"") -> 0 | J18: =IFERROR(VLOOKUP(A18,PO_R2,13,0),"")
F19: 1 | L19: =IF(SUM(C19:H19)=100%,"Ok","Revisar percentuais") -> Ok
A20: 7 | B20: =IFERROR(VLOOKUP(A20,PO_R2,4,0),"") -> ESTRUTURA DE CONCRETO: TRATAMENTO PRELIMINAR (EEE) | C20: =IF(C21="","",C21*$I20) | D20: =IF(D21="","",D21*$I20) -> 0 | E20: =IF(E21="","",E21*$I20) -> 0 | F20: =IF(F21="","",F21*$I20) | G20: =IF(G21="","",G21*$I20) | H20: =IF(H21="","",H21*$I20) | I20: =IFERROR(VLOOKUP(A20,PO_R2,12,0),"") -> 0 | J20: =IFERROR(VLOOKUP(A20,PO_R2,13,0),"")
D21: 0.5 | E21: 0.5 | L21: =IF(SUM(C21:H21)=100%,"Ok","Revisar percentuais") -> Ok
A22: 8 | B22: =IFERROR(VLOOKUP(A22,PO_R2,4,0),"") -> MURO DE ARRIMO: TRATAMENTO PRELIMINAR (EEE) | C22: =IF(C23="","",C23*$I22) | D22: =IF(D23="","",D23*$I22) | E22: =IF(E23="","",E23*$I22) -> 0 | F22: =IF(F23="","",F23*$I22) | G22: =IF(G23="","",G23*$I22) | H22: =IF(H23="","",H23*$I22) | I22: =IFERROR(VLOOKUP(A22,PO_R2,12,0),"") -> 0 | J22: =IFERROR(VLOOKUP(A22,PO_R2,13,0),"")
E23: 1 | L23: =IF(SUM(C23:H23)=100%,"Ok","Revisar percentuais") -> Ok
A24: 9 | B24: =IFERROR(VLOOKUP(A24,PO_R2,4,0),"") -> ESCADAS DE ACESSO: TRATAMENTO PRELIMINAR (EEE) | C24: =IF(C25="","",C25*$I24) | D24: =IF(D25="","",D25*$I24) | E24: =IF(E25="","",E25*$I24) -> 0 | F24: =IF(F25="","",F25*$I24) | G24: =IF(G25="","",G25*$I24) | H24: =IF(H25="","",H25*$I24) | I24: =IFERROR(VLOOKUP(A24,PO_R2,12,0),"") -> 0 | J24: =IFERROR(VLOOKUP(A24,PO_R2,13,0),"")
E25: 1 | L25: =IF(SUM(C25:H25)=100%,"Ok","Revisar percentuais") -> Ok
A26: 10 | B26: =IFERROR(VLOOKUP(A26,PO_R2,4,0),"") -> PISO DE CONCRETO: TRATAMENTO PRELIMINAR (EEE) | C26: =IF(C27="","",C27*$I26) | D26: =IF(D27="","",D27*$I26) | E26: =IF(E27="","",E27*$I26) -> 0 | F26: =IF(F27="","",F27*$I26) | G26: =IF(G27="","",G27*$I26) | H26: =IF(H27="","",H27*$I26) | I26: =IFERROR(VLOOKUP(A26,PO_R2,12,0),"") -> 0 | J26: =IFERROR(VLOOKUP(A26,PO_R2,13,0),"")
E27: 1 | L27: =IF(SUM(C27:H27)=100%,"Ok","Revisar percentuais") -> Ok
A28: 11 | B28: =IFERROR(VLOOKUP(A28,PO_R2,4,0),"") -> ACESSÓRIOS: TRATAMENTO PRELIMINAR (EEE) | C28: =IF(C29="","",C29*$I28) | D28: =IF(D29="","",D29*$I28) | E28: =IF(E29="","",E29*$I28) -> 0 | F28: =IF(F29="","",F29*$I28) | G28: =IF(G29="","",G29*$I28) | H28: =IF(H29="","",H29*$I28) | I28: =IFERROR(VLOOKUP(A28,PO_R2,12,0),"") -> 0 | J28: =IFERROR(VLOOKUP(A28,PO_R2,13,0),"")
E29: 1 | L29: =IF(SUM(C29:H29)=100%,"Ok","Revisar percentuais") -> Ok
A30: 12 | B30: =IFERROR(VLOOKUP(A30,PO_R2,4,0),"") -> REATERRO COMPACTADO: TRATAMENTO PRELIMINAR (EEE) | C30: =IF(C31="","",C31*$I30) | D30: =IF(D31="","",D31*$I30) | E30: =IF(E31="","",E31*$I30) -> 0 | F30: =IF(F31="","",F31*$I30) | G30: =IF(G31="","",G31*$I30) | H30: =IF(H31="","",H31*$I30) | I30: =IFERROR(VLOOKUP(A30,PO_R2,12,0),"") -> 0 | J30: =IFERROR(VLOOKUP(A30,PO_R2,13,0),"")
E31: 1 | L31: =IF(SUM(C31:H31)=100%,"Ok","Revisar percentuais") -> Ok
A32: 13 | B32: =IFERROR(VLOOKUP(A32,PO_R2,4,0),"") -> TANQUES PULMÃO | C32: =IF(C33="","",C33*$I32) | D32: =IF(D33="","",D33*$I32) | E32: =IF(E33="","",E33*$I32) -> 0 | F32: =IF(F33="","",F33*$I32) -> 0 | G32: =IF(G33="","",G33*$I32) | H32: =IF(H33="","",H33*$I32) | I32: =IFERROR(VLOOKUP(A32,PO_R2,12,0),"") -> 0 | J32: =IFERROR(VLOOKUP(A32,PO_R2,13,0),"")
E33: 0.0343 | F33: 0.9657 | L33: =IF(SUM(C33:H33)=100%,"Ok","Revisar percentuais") -> Ok
A34: 14 | B34: =IFERROR(VLOOKUP(A34,PO_R2,4,0),"") -> CAIXAS PARA VÁLVULAS DE MANOBRA: TANQUES PULMÃO | C34: =IF(C35="","",C35*$I34) | D34: =IF(D35="","",D35*$I34) | E34: =IF(E35="","",E35*$I34) | F34: =IF(F35="","",F35*$I34) -> 0 | G34: =IF(G35="","",G35*$I34) | H34: =IF(H35="","",H35*$I34) | I34: =IFERROR(VLOOKUP(A34,PO_R2,12,0),"") -> 0 | J34: =IFERROR(VLOOKUP(A34,PO_R2,13,0),"")
F35: 1 | L35: =IF(SUM(C35:H35)=100%,"Ok","Revisar percentuais") -> Ok
A36: 15 | B36: =IFERROR(VLOOKUP(A36,PO_R2,4,0),"") -> REATERRO COMPACTADO: TANQUES PULMÃO | C36: =IF(C37="","",C37*$I36) | D36: =IF(D37="","",D37*$I36) | E36: =IF(E37="","",E37*$I36) | F36: =IF(F37="","",F37*$I36) -> 0 | G36: =IF(G37="","",G37*$I36) | H36: =IF(H37="","",H37*$I36) | I36: =IFERROR(VLOOKUP(A36,PO_R2,12,0),"") -> 0 | J36: =IFERROR(VLOOKUP(A36,PO_R2,13,0),"")
F37: 1 | L37: =IF(SUM(C37:H37)=100%,"Ok","Revisar percentuais") -> Ok
A38: 16 | B38: =IFERROR(VLOOKUP(A38,PO_R2,4,0),"") -> INSTALAÇÕES HIDRÁULICAS | C38: =IF(C39="","",C39*$I38) | D38: =IF(D39="","",D39*$I38) | E38: =IF(E39="","",E39*$I38) | F38: =IF(F39="","",F39*$I38) -> 0 | G38: =IF(G39="","",G39*$I38) -> 0 | H38: =IF(H39="","",H39*$I38) | I38: =IFERROR(VLOOKUP(A38,PO_R2,12,0),"") -> 0 | J38: =IFERROR(VLOOKUP(A38,PO_R2,13,0),"")
F39: 0.5 | G39: 0.5 | L39: =IF(SUM(C39:H39)=100%,"Ok","Revisar percentuais") -> Ok
A40: 17 | B40: =IFERROR(VLOOKUP(A40,PO_R2,4,0),"") -> LINHA DE RECALQUE (EEE) | C40: =IF(C41="","",C41*$I40) | D40: =IF(D41="","",D41*$I40) | E40: =IF(E41="","",E41*$I40) | F40: =IF(F41="","",F41*$I40) | G40: =IF(G41="","",G41*$I40) -> 0 | H40: =IF(H41="","",H41*$I40) | I40: =IFERROR(VLOOKUP(A40,PO_R2,12,0),"") -> 0 | J40: =IFERROR(VLOOKUP(A40,PO_R2,13,0),"")
G41: 1 | L41: =IF(SUM(C41:H41)=100%,"Ok","Revisar percentuais") -> Ok
A42: 18 | B42: =IFERROR(VLOOKUP(A42,PO_R2,4,0),"") -> DRENAGEM INTERNA (EEE) | C42: =IF(C43="","",C43*$I42) | D42: =IF(D43="","",D43*$I42) | E42: =IF(E43="","",E43*$I42) | F42: =IF(F43="","",F43*$I42) -> 0 | G42: =IF(G43="","",G43*$I42) | H42: =IF(H43="","",H43*$I42) | I42: =IFERROR(VLOOKUP(A42,PO_R2,12,0),"") -> 0 | J42: =IFERROR(VLOOKUP(A42,PO_R2,13,0),"")
...
